BEGIN:VCALENDAR
VERSION:2.0
PRODID:-//Armored Combat Clash - ECPv6.15.20//NONSGML v1.0//EN
CALSCALE:GREGORIAN
METHOD:PUBLISH
X-WR-CALNAME:Armored Combat Clash
X-ORIGINAL-URL:https://armoredcombatclash.com
X-WR-CALDESC:Évènements pour Armored Combat Clash
REFRESH-INTERVAL;VALUE=DURATION:PT1H
X-Robots-Tag:noindex
X-PUBLISHED-TTL:PT1H
BEGIN:VTIMEZONE
TZID:Europe/Paris
BEGIN:DAYLIGHT
TZOFFSETFROM:+0100
TZOFFSETTO:+0200
TZNAME:CEST
DTSTART:20240331T010000
END:DAYLIGHT
BEGIN:STANDARD
TZOFFSETFROM:+0200
TZOFFSETTO:+0100
TZNAME:CET
DTSTART:20241027T010000
END:STANDARD
BEGIN:DAYLIGHT
TZOFFSETFROM:+0100
TZOFFSETTO:+0200
TZNAME:CEST
DTSTART:20250330T010000
END:DAYLIGHT
BEGIN:STANDARD
TZOFFSETFROM:+0200
TZOFFSETTO:+0100
TZNAME:CET
DTSTART:20251026T010000
END:STANDARD
BEGIN:DAYLIGHT
TZOFFSETFROM:+0100
TZOFFSETTO:+0200
TZNAME:CEST
DTSTART:20260329T010000
END:DAYLIGHT
BEGIN:STANDARD
TZOFFSETFROM:+0200
TZOFFSETTO:+0100
TZNAME:CET
DTSTART:20261025T010000
END:STANDARD
BEGIN:DAYLIGHT
TZOFFSETFROM:+0100
TZOFFSETTO:+0200
TZNAME:CEST
DTSTART:20270328T010000
END:DAYLIGHT
BEGIN:STANDARD
TZOFFSETFROM:+0200
TZOFFSETTO:+0100
TZNAME:CET
DTSTART:20271031T010000
END:STANDARD
END:VTIMEZONE
BEGIN:VEVENT
DTSTART;TZID=Europe/Paris:20260418T090000
DTEND;TZID=Europe/Paris:20260418T190000
DTSTAMP:20260421T113046
CREATED:20260302T155659Z
LAST-MODIFIED:20260302T155700Z
UID:8195-1776502800-1776538800@armoredcombatclash.com
SUMMARY:Tournoi de combat Clash à La Ferté-Bernard
DESCRIPTION:La Ligue Armored Combat Clash et ses partenaires seront à La Ferté-Bernard
URL:https://armoredcombatclash.com/event/tournoi-de-combat-clash-a-la-ferte-bernard/
END:VEVENT
BEGIN:VEVENT
DTSTART;TZID=Europe/Paris:20260411T000000
DTEND;TZID=Europe/Paris:20260412T235959
DTSTAMP:20260421T113046
CREATED:20260209T091908Z
LAST-MODIFIED:20260302T151244Z
UID:8156-1775865600-1776038399@armoredcombatclash.com
SUMMARY:Fête de la Scie 2026
DESCRIPTION:Combat de SAF et duels de Clash à la Fête de la Scie 2026.
URL:https://armoredcombatclash.com/event/fete-de-la-scie-2026/
END:VEVENT
BEGIN:VEVENT
DTSTART;TZID=Europe/Paris:20260214T000000
DTEND;TZID=Europe/Paris:20260215T235959
DTSTAMP:20260421T113046
CREATED:20251006T171106Z
LAST-MODIFIED:20260209T094110Z
UID:328-1771027200-1771199999@armoredcombatclash.com
SUMMARY:Normannia 2026
DESCRIPTION:
URL:https://armoredcombatclash.com/event/normannia-2026/
END:VEVENT
BEGIN:VEVENT
DTSTART;TZID=Europe/Paris:20250913T080000
DTEND;TZID=Europe/Paris:20250913T170000
DTSTAMP:20260421T113046
CREATED:20250804T234934Z
LAST-MODIFIED:20260204T152759Z
UID:108-1757750400-1757782800@armoredcombatclash.com
SUMMARY:Gravenchon
DESCRIPTION:
URL:https://armoredcombatclash.com/event/gravenchon/
END:VEVENT
BEGIN:VEVENT
DTSTART;TZID=Europe/Paris:20250823T000000
DTEND;TZID=Europe/Paris:20250823T235959
DTSTAMP:20260421T113046
CREATED:20250804T232626Z
LAST-MODIFIED:20260204T152803Z
UID:92-1755907200-1755993599@armoredcombatclash.com
SUMMARY:Thiétreville
DESCRIPTION:Thiétreville
URL:https://armoredcombatclash.com/event/thietreville/
LOCATION:Thiétreville\, France
END:VEVENT
END:VCALENDAR